{
 "currentVersion": 11.3,
 "cimVersion": "3.3.0",
 "serviceDescription": "El servicio geográfico representa la georreferenciación de la Distribución de alumnos matriculados en primaria por zona, según departamento y el porcentaje de alumnos matriculados en primaria en la zona rural para el año 2012. Los resultados hacen parte de la Investigación de Educación Formal (EDUC), la cual es una operación estadística de tipo registro administrativo, el cual se recolecta a través del formulario físico C600 diligenciado directamente por los establecimientos educativos.",
 "mapName": "Cache_DeptosDistribMatricPrimariaxZona_2012",
 "description": "El servicio geográfico representa la georreferenciación de la Distribución de alumnos matriculados en primaria por zona, según departamento y el porcentaje de alumnos matriculados en primaria en la zona rural para el año 2012. Los resultados hacen parte de la Investigación de Educación Formal (EDUC), la cual es una operación estadística de tipo registro administrativo, el cual se recolecta a través del formulario físico C600 diligenciado directamente por los establecimientos educativos.",
 "copyrightText": "Departamento Administrativo Nacional de Estadística (DANE)",
 "supportsDynamicLayers": true,
 "layers": [
  {
   "id": 0,
   "name": "Capital de Departamento",
   "parentLayerId": -1,
   "defaultVisibility": true,
   "subLayerIds": null,
   "minScale": 3000000,
   "maxScale": 0,
   "type": "Feature Layer",
   "geometryType": "esriGeometryPoint",
   "supportsDynamicLegends": true
  },
  {
   "id": 1,
   "name": "Alumnos matriculados por zona",
   "parentLayerId": -1,
   "defaultVisibility": true,
   "subLayerIds": null,
   "minScale": 3000001,
   "maxScale": 0,
   "type": "Feature Layer",
   "geometryType": "esriGeometryPoint",
   "supportsDynamicLegends": false
  },
  {
   "id": 2,
   "name": "Alumnos matriculados por zona",
   "parentLayerId": -1,
   "defaultVisibility": true,
   "subLayerIds": null,
   "minScale": 7000001,
   "maxScale": 3000001,
   "type": "Feature Layer",
   "geometryType": "esriGeometryPoint",
   "supportsDynamicLegends": false
  },
  {
   "id": 3,
   "name": "Alumnos matriculados por zona",
   "parentLayerId": -1,
   "defaultVisibility": true,
   "subLayerIds": null,
   "minScale": 10500000,
   "maxScale": 7000001,
   "type": "Feature Layer",
   "geometryType": "esriGeometryPoint",
   "supportsDynamicLegends": false
  },
  {
   "id": 4,
   "name": "Departamentos",
   "parentLayerId": -1,
   "defaultVisibility": true,
   "subLayerIds": null,
   "minScale": 20000000,
   "maxScale": 0,
   "type": "Feature Layer",
   "geometryType": "esriGeometryPolygon",
   "supportsDynamicLegends": true
  },
  {
   "id": 5,
   "name": "Alumnos matriculados en primaria zona rural (%)",
   "parentLayerId": -1,
   "defaultVisibility": true,
   "subLayerIds": null,
   "minScale": 0,
   "maxScale": 0,
   "type": "Feature Layer",
   "geometryType": "esriGeometryPolygon",
   "supportsDynamicLegends": true
  }
 ],
 "tables": [],
 "spatialReference": {
  "wkid": 102100,
  "latestWkid": 3857,
  "xyTolerance": 0.001,
  "zTolerance": 0.001,
  "mTolerance": 0.001,
  "falseX": -2.1831553001023702E7,
  "falseY": -30241100,
  "xyUnits": 1.4463343164334658E8,
  "falseZ": -100000,
  "zUnits": 10000,
  "falseM": -100000,
  "mUnits": 10000
 },
 "singleFusedMapCache": true,
 "tileInfo": {
  "rows": 256,
  "cols": 256,
  "dpi": 96,
  "format": "PNG",
  "compressionQuality": 0,
  "origin": {
   "x": -2.0037508342787E7,
   "y": 2.0037508342787E7
  },
  "spatialReference": {
   "wkid": 102100,
   "latestWkid": 3857,
   "xyTolerance": 0.001,
   "zTolerance": 0.001,
   "mTolerance": 0.001,
   "falseX": -2.1831553001023702E7,
   "falseY": -30241100,
   "xyUnits": 1.4463343164334658E8,
   "falseZ": -100000,
   "zUnits": 10000,
   "falseM": -100000,
   "mUnits": 10000
  },
  "lods": [
   {
    "level": 0,
    "resolution": 156543.03392800014,
    "scale": 5.91657527591555E8
   },
   {
    "level": 1,
    "resolution": 78271.51696399994,
    "scale": 2.95828763795777E8
   },
   {
    "level": 2,
    "resolution": 39135.75848200009,
    "scale": 1.47914381897889E8
   },
   {
    "level": 3,
    "resolution": 19567.87924099992,
    "scale": 7.3957190948944E7
   },
   {
    "level": 4,
    "resolution": 9783.93962049996,
    "scale": 3.6978595474472E7
   },
   {
    "level": 5,
    "resolution": 4891.96981024998,
    "scale": 1.8489297737236E7
   },
   {
    "level": 6,
    "resolution": 2445.98490512499,
    "scale": 9244648.868618
   },
   {
    "level": 7,
    "resolution": 1222.992452562495,
    "scale": 4622324.434309
   },
   {
    "level": 8,
    "resolution": 611.4962262813797,
    "scale": 2311162.217155
   },
   {
    "level": 9,
    "resolution": 305.74811314055756,
    "scale": 1155581.108577
   },
   {
    "level": 10,
    "resolution": 152.87405657041106,
    "scale": 577790.554289
   },
   {
    "level": 11,
    "resolution": 76.43702828507324,
    "scale": 288895.277144
   },
   {
    "level": 12,
    "resolution": 38.21851414253662,
    "scale": 144447.638572
   },
   {
    "level": 13,
    "resolution": 19.10925707126831,
    "scale": 72223.819286
   },
   {
    "level": 14,
    "resolution": 9.554628535634155,
    "scale": 36111.909643
   },
   {
    "level": 15,
    "resolution": 4.77731426794937,
    "scale": 18055.954822
   },
   {
    "level": 16,
    "resolution": 2.388657133974685,
    "scale": 9027.977411
   },
   {
    "level": 17,
    "resolution": 1.1943285668550503,
    "scale": 4513.988705
   },
   {
    "level": 18,
    "resolution": 0.5971642835598172,
    "scale": 2256.994353
   },
   {
    "level": 19,
    "resolution": 0.29858214164761665,
    "scale": 1128.497176
   },
   {
    "level": 20,
    "resolution": 0.14929107082380833,
    "scale": 564.248588
   },
   {
    "level": 21,
    "resolution": 0.07464553541190416,
    "scale": 282.124294
   },
   {
    "level": 22,
    "resolution": 0.03732276770595208,
    "scale": 141.062147
   },
   {
    "level": 23,
    "resolution": 0.01866138385297604,
    "scale": 70.5310735
   }
  ]
 },
 "storageInfo": {
  "storageFormat": "esriMapCacheStorageModeCompactV2",
  "packetSize": 128
 },
 "initialExtent": {
  "xmin": -9993327.404616443,
  "ymin": -570376.1361124801,
  "xmax": -6547227.888132026,
  "ymax": 1604471.170203853,
  "spatialReference": {
   "cs": "pcs",
   "wkid": 102100
  }
 },
 "fullExtent": {
  "xmin": -9099142.774256144,
  "ymin": -471076.1679165989,
  "xmax": -7441412.518492327,
  "ymax": 1505171.2020079717,
  "spatialReference": {
   "cs": "pcs",
   "wkid": 102100
  }
 },
 "datesInUnknownTimezone": false,
 "minScale": 1.8489297737236E7,
 "maxScale": 288895.277144,
 "minLOD": 5,
 "maxLOD": 11,
 "units": "esriMeters",
 "supportedImageFormatTypes": "PNG32,PNG24,PNG,JPG,DIB,TIFF,EMF,PS,PDF,GIF,SVG,SVGZ,BMP",
 "documentInfo": {
  "Title": "Distribución de alumnos matriculados en primaria por zona, según departamento 2012",
  "Author": "",
  "Comments": "El servicio geográfico representa la georreferenciación de la Distribución de alumnos matriculados en primaria por zona, según departamento y el porcentaje de alumnos matriculados en primaria en la zona rural para el año 2012. Los resultados hacen parte de la Investigación de Educación Formal (EDUC), la cual es una operación estadística de tipo registro administrativo, el cual se recolecta a través del formulario físico C600 diligenciado directamente por los establecimientos educativos.",
  "Subject": "Distribución de alumnos matriculados en primaria por zona, según departamento 2012",
  "Category": "",
  "Version": "2.8.0",
  "AntialiasingMode": "Fast",
  "TextAntialiasingMode": "Force",
  "Keywords": "educacion, cultura"
 },
 "supportsQueryDomains": true,
 "capabilities": "Map,Query,Data",
 "supportedQueryFormats": "JSON, geoJSON, PBF",
 "exportTilesAllowed": false,
 "referenceScale": 0.0,
 "supportsDatumTransformation": true,
 "archivingInfo": {
  "supportsHistoricMoment": false
 },
 "supportsClipping": true,
 "supportsSpatialFilter": true,
 "supportsTimeRelation": true,
 "supportsQueryDataElements": true,
 "mapUnits": {
  "uwkid": 9001
 },
 "maxRecordCount": 2000,
 "maxImageHeight": 4096,
 "maxImageWidth": 4096,
 "supportedExtensions": "WFSServer, WMSServer",
 "resampling": false,
 "serviceItemId": "79bfdf82a22f41a4b89e8d84520edb24"
}
