View In:
ArcGIS JavaScript
ArcGIS Online Map Viewer
ArcGIS Earth
ArcGIS Pro
Service Description: El saldo de la cuenta comercial del país, entendida como la diferencia entre las exportaciones y las importaciones durante un periodo de tiempo.
Map Name: Serv_ID_DeptosCEXBalanzaComercialSegunDpto_2010
Legend
All Layers and Tables
Dynamic Legend
Dynamic All Layers
Layers:
Description: El saldo de la cuenta comercial del país, entendida como la diferencia entre las exportaciones y las importaciones durante un periodo de tiempo.
Service Item Id: 114922c1c4794e549835926f2545de90
Copyright Text: Departamento Administrativo Nacional de Estadística (DANE)
Spatial Reference:
102100
(3857)
LatestVCSWkid(0)
Single Fused Map Cache: true
Tile Info:
- Height: 256
- Width: 256
- DPI: 96
-
Levels of Detail: 24
-
Level ID: 1
[ Start Tile, End Tile ]
- Resolution: 78271.5169639999
- Scale: 2.95828763795777E8
-
Level ID: 2
[ Start Tile, End Tile ]
- Resolution: 39135.7584820001
- Scale: 1.47914381897889E8
-
Level ID: 3
[ Start Tile, End Tile ]
- Resolution: 19567.8792409999
- Scale: 7.3957190948944E7
-
Level ID: 4
[ Start Tile, End Tile ]
- Resolution: 9783.93962049996
- Scale: 3.6978595474472E7
-
Level ID: 5
[ Start Tile, End Tile ]
- Resolution: 4891.96981024998
- Scale: 1.8489297737236E7
- Format: PNG
- Compression Quality: 0.0
- Origin: X: -2.0037508342787E7
Y: 2.0037508342787E7
- Spatial Reference: 102100
(3857)
LatestVCSWkid(0)
Storage Info:
- Storage Format: esriMapCacheStorageModeCompactV2
- Packet Size: 128
Initial Extent:
XMin: -9423205.770066703
YMin: -197663.77191389212
XMax: -7509288.7434044415
YMax: 1288473.7868685592
Spatial Reference: 102100
(0)
LatestVCSWkid(0)
Full Extent:
XMin: -1.9838975901392784E7
YMin: -7538976.8461335655
XMax: 2.0012566091225576E7
YMax: 1.792678152031699E7
Spatial Reference: 102100
(0)
LatestVCSWkid(0)
Units: esriMeters
Supported Image Format Types: PNG32,PNG24,PNG,JPG,DIB,TIFF,EMF,PS,PDF,GIF,SVG,SVGZ,BMP
Document Info:
Title: Balanza comercial, según departamento 2010p
Author:
Comments: El saldo de la cuenta comercial del país, entendida como la diferencia entre las exportaciones y las importaciones durante un periodo de tiempo.
Subject: Balanza comercial, según departamento 2010p
Category:
Keywords: comercio, industria
AntialiasingMode: Fast
TextAntialiasingMode: Force
Supports Dynamic Layers: true
Resampling: false
MaxRecordCount: 2000
MaxImageHeight: 4096
MaxImageWidth: 4096
Supported Query Formats: JSON, geoJSON, PBF
Supports Query Data Elements: true
Min Scale: 1.8489297737236E7
Max Scale: 288895.277144
Min LOD: 5
Max LOD: 11
Supports Datum Transformation: true
Child Resources:
Info
Dynamic Layer
Supported Operations:
Export Map
Identify
QueryLegends
QueryDomains
Find
Return Updates