View In:
ArcGIS JavaScript
ArcGIS Online Map Viewer
ArcGIS Earth
ArcGIS Pro
Service Description: Línea de pobreza, se define como el costo per cápita de un nivel de vida aceptable (Ravallion,1998). Tomado del Atlas Estadístico DANE 2013
Map Name: Serv_V_CV_DeptosCVLineaDePobreza_2002_2012
Legend
All Layers and Tables
Dynamic Legend
Dynamic All Layers
Layers:
Description: Línea de pobreza, se define como el costo per cápita de un nivel de vida aceptable (Ravallion,1998). Tomado del Atlas Estadístico DANE 2013
Service Item Id: b4e394666ffb4ac5aef75f24140b263e
Copyright Text: Departamento Administrativo Nacional de Estadística (DANE)
Spatial Reference:
102100
(3857)
Single Fused Map Cache: true
Tile Info:
- Height: 256
- Width: 256
- DPI: 96
-
Levels of Detail: 24
-
Level ID: 1
[ Start Tile, End Tile ]
- Resolution: 78271.5169639999
- Scale: 2.95828763795777E8
-
Level ID: 2
[ Start Tile, End Tile ]
- Resolution: 39135.7584820001
- Scale: 1.47914381897889E8
-
Level ID: 3
[ Start Tile, End Tile ]
- Resolution: 19567.8792409999
- Scale: 7.3957190948944E7
-
Level ID: 4
[ Start Tile, End Tile ]
- Resolution: 9783.93962049996
- Scale: 3.6978595474472E7
-
Level ID: 5
[ Start Tile, End Tile ]
- Resolution: 4891.96981024998
- Scale: 1.8489297737236E7
- Format: PNG
- Compression Quality: 0.0
- Origin: X: -2.0037508342787E7
Y: 2.0037508342787E7
- Spatial Reference: 102100
(3857)
Storage Info:
- Storage Format: esriMapCacheStorageModeCompactV2
- Packet Size: 128
Initial Extent:
XMin: -9470770.216374869
YMin: -375042.30540633644
XMax: -7172312.974111547
YMax: 1409686.9108544223
Spatial Reference: 102100
Full Extent:
XMin: -1.9838975901392784E7
YMin: -7538976.8461335655
XMax: 2.0012566091225576E7
YMax: 1.792678152031699E7
Spatial Reference: 102100
Units: esriMeters
Supported Image Format Types: PNG32,PNG24,PNG,JPG,DIB,TIFF,EMF,PS,PDF,GIF,SVG,SVGZ,BMP
Document Info:
Title: Línea de pobreza, según departamento 2002-2012
Author:
Comments: Línea de pobreza, se define como el costo per cápita de un nivel de vida aceptable (Ravallion,1998). Tomado del Atlas Estadístico DANE 2013
Subject: Línea de pobreza, según departamento 2002-2012
Category:
Keywords: pobreza, condiciones, vida
AntialiasingMode: Fast
TextAntialiasingMode: Force
Supports Dynamic Layers: true
Resampling: false
MaxRecordCount: 2000
MaxImageHeight: 4096
MaxImageWidth: 4096
Supported Query Formats: JSON, geoJSON, PBF
Supports Query Data Elements: true
Min Scale: 1.8489297737236E7
Max Scale: 288895.277144
Min LOD: 5
Max LOD: 11
Supports Datum Transformation: true
Child Resources:
Info
Dynamic Layer
Supported Operations:
Export Map
Identify
QueryLegends
QueryDomains
Find
Return Updates