View In:
ArcGIS JavaScript
ArcGIS Online Map Viewer
ArcGIS Earth
ArcGIS Pro
Service Description: Obras culminadas: son todas aquellas obras de seguimiento en censos anteriores, que culminan actividad en el censo actual.
Obras paralizadas: son todas aquellas edificaciones que al momento del censo no están generando ninguna actividad constructora Obras iniciadas: corresponde a las obras que iniciaron actividad constructora durante el período intercensal.
Map Name: Cache_MpioCEUnidadesParaViviCulmiIniciParalizNoVIS_2010
Legend
All Layers and Tables
Dynamic Legend
Dynamic All Layers
Layers:
Description: Obras culminadas: son todas aquellas obras de seguimiento en censos anteriores, que culminan actividad en el censo actual.
Obras paralizadas: son todas aquellas edificaciones que al momento del censo no están generando ninguna actividad constructora Obras iniciadas: corresponde a las obras que iniciaron actividad constructora durante el período intercensal.
Service Item Id: 7965addfb88d414ba1a47de758db737d
Copyright Text: Departamento Administrativo Nacional de Estadística (DANE)
Spatial Reference:
102100
(3857)
Single Fused Map Cache: true
Tile Info:
- Height: 256
- Width: 256
- DPI: 96
-
Levels of Detail: 24
-
Level ID: 0
[ Start Tile, End Tile ]
- Resolution: 156543.03392800014
- Scale: 5.91657527591555E8
-
Level ID: 1
[ Start Tile, End Tile ]
- Resolution: 78271.51696399994
- Scale: 2.95828763795777E8
-
Level ID: 2
[ Start Tile, End Tile ]
- Resolution: 39135.75848200009
- Scale: 1.47914381897889E8
-
Level ID: 3
[ Start Tile, End Tile ]
- Resolution: 19567.87924099992
- Scale: 7.3957190948944E7
-
Level ID: 4
[ Start Tile, End Tile ]
- Resolution: 9783.93962049996
- Scale: 3.6978595474472E7
-
Level ID: 5
[ Start Tile, End Tile ]
- Resolution: 4891.96981024998
- Scale: 1.8489297737236E7
- Format: PNG
- Compression Quality: 0.0
- Origin: X: -2.0037508342787E7
Y: 2.0037508342787E7
- Spatial Reference: 102100
(3857)
Storage Info:
- Storage Format: esriMapCacheStorageModeCompactV2
- Packet Size: 128
Initial Extent:
XMin: -9493006.354613269
YMin: -570310.2690260775
XMax: -7047548.938023878
YMax: 1604405.3031174503
Spatial Reference: 102100
(3857)
Full Extent:
XMin: -9099142.774256144
YMin: -471076.1679165989
XMax: -7441412.517713086
YMax: 1505171.2020079717
Spatial Reference: 102100
(3857)
Units: esriMeters
Supported Image Format Types: PNG32,PNG24,PNG,JPG,DIB,TIFF,EMF,PS,PDF,GIF,SVG,SVGZ,BMP
Document Info:
Title: Unidades para vivienda culminada, iniciada y paralizada (NoVIS), según 35 municipios 2010
Author:
Comments: Obras culminadas: son todas aquellas obras de seguimiento en censos anteriores, que culminan actividad en el censo actual.
Obras paralizadas: son todas aquellas edificaciones que al momento del censo no están generando ninguna actividad constructora Obras iniciadas: corresponde a las obras que iniciaron actividad constructora durante el período intercensal.
Subject: Unidades para vivienda culminada, iniciada y paralizada (NoVIS), según 35 municipios 2010
Category:
Keywords: construccion
AntialiasingMode: Fast
TextAntialiasingMode: Force
Supports Dynamic Layers: true
Resampling: false
MaxRecordCount: 2000
MaxImageHeight: 4096
MaxImageWidth: 4096
Supported Query Formats: JSON, geoJSON, PBF
Supports Query Data Elements: true
Min Scale: 1.8489297737236E7
Max Scale: 288895.277144
Min LOD: 5
Max LOD: 11
Supports Datum Transformation: true
Child Resources:
Info
Dynamic Layer
Supported Operations:
Export Map
Identify
QueryLegends
QueryDomains
Find
Return Updates