View In:
ArcGIS JavaScript
ArcGIS Online Map Viewer
ArcGIS Earth
ArcGIS Pro
Service Description: El servicio geográfico representa en coropletas o colores graduados, la georreferenciación de los resultados del Indice de masculinidad en rural disperso, según municipio 2005. Indice de Masculinidad o Razón de Masculinidad es el indicador más utilizado para expresar la composición por sexo de una población. Se le define como la relación del número de hombres respecto al número de mujeres, multiplicada por cien. Este indicador se interpreta como el número de hombres que hay por cada 100 mujeres.
Map Name: Layers
Legend
All Layers and Tables
Dynamic Legend
Dynamic All Layers
Layers:
Description: El servicio geográfico representa en coropletas o colores graduados, la georreferenciación de los resultados del Indice de masculinidad en rural disperso, según municipio 2005. Indice de Masculinidad o Razón de Masculinidad es el indicador más utilizado para expresar la composición por sexo de una población. Se le define como la relación del número de hombres respecto al número de mujeres, multiplicada por cien. Este indicador se interpreta como el número de hombres que hay por cada 100 mujeres.
Service Item Id: 448ccd2cf493453ab2ef1540d019ae6f
Copyright Text: Departamento Administrativo Nacional de Estadística (DANE)
Spatial Reference:
102100
(3857)
Single Fused Map Cache: true
Tile Info:
- Height: 256
- Width: 256
- DPI: 96
-
Levels of Detail: 24
-
Level ID: 1
[ Start Tile, End Tile ]
- Resolution: 78271.5169639999
- Scale: 2.95828763795777E8
-
Level ID: 2
[ Start Tile, End Tile ]
- Resolution: 39135.7584820001
- Scale: 1.47914381897889E8
-
Level ID: 3
[ Start Tile, End Tile ]
- Resolution: 19567.8792409999
- Scale: 7.3957190948944E7
-
Level ID: 4
[ Start Tile, End Tile ]
- Resolution: 9783.93962049996
- Scale: 3.6978595474472E7
-
Level ID: 5
[ Start Tile, End Tile ]
- Resolution: 4891.96981024998
- Scale: 1.8489297737236E7
- Format: PNG
- Compression Quality: 0.0
- Origin: X: -2.0037508342787E7
Y: 2.0037508342787E7
- Spatial Reference: 102100
(3857)
Storage Info:
- Storage Format: esriMapCacheStorageModeCompactV2
- Packet Size: 128
Initial Extent:
XMin: -9416987.83043322
YMin: 581154.5536432429
XMax: -6781345.018818539
YMax: 1429017.5904678185
Spatial Reference: 102100
(3857)
Full Extent:
XMin: -9098767.66
YMin: -471243.5331999995
XMax: -7441397.982281899
YMax: 1504865.250500001
Spatial Reference: 102100
(3857)
Units: esriMeters
Supported Image Format Types: PNG32,PNG24,PNG,JPG,DIB,TIFF,EMF,PS,PDF,GIF,SVG,SVGZ,BMP
Document Info:
Title: Indice de masculinidad en rural disperso, según municipio 2018
Author:
Comments: El servicio geográfico representa en coropletas o colores graduados, la georreferenciación de los resultados del Indice de masculinidad en rural disperso, según municipio 2005. Indice de Masculinidad o Razón de Masculinidad es el indicador más utilizado para expresar la composición por sexo de una población. Se le define como la relación del número de hombres respecto al número de mujeres, multiplicada por cien. Este indicador se interpreta como el número de hombres que hay por cada 100 mujeres.
Subject: Indice de masculinidad en rural disperso, según municipio 2018, Total municipal
Category:
Keywords: demografia, poblacion
AntialiasingMode: Fast
TextAntialiasingMode: Force
Supports Dynamic Layers: true
Resampling: false
MaxRecordCount: 2000
MaxImageHeight: 4096
MaxImageWidth: 4096
Supported Query Formats: JSON, geoJSON, PBF
Supports Query Data Elements: true
Min Scale: 1.8489297737236E7
Max Scale: 288895.277144
Min LOD: 5
Max LOD: 11
Supports Datum Transformation: true
Child Resources:
Info
Dynamic Layer
Supported Operations:
Export Map
Identify
QueryLegends
QueryDomains
Find
Return Updates