View In:
ArcGIS JavaScript
ArcGIS Online Map Viewer
ArcGIS Earth
ArcGIS Pro
Service Description: El servicio geográfico representa la población Población indígena en resguardo de 0 a 14 años, según los resultados del CNPV2018
Map Name: Layers
Legend
All Layers and Tables
Dynamic Legend
Dynamic All Layers
Layers:
Description: El servicio geográfico representa la población Población indígena en resguardo de 0 a 14 años, según los resultados del CNPV2018
Service Item Id: 4e035a08dc1245e7adf7d427aada9405
Copyright Text: Departamento Administrativo Nacional de Estadística (DANE)
Spatial Reference:
102100
(3857)
Single Fused Map Cache: true
Tile Info:
- Height: 256
- Width: 256
- DPI: 96
-
Levels of Detail: 24
-
Level ID: 1
[ Start Tile, End Tile ]
- Resolution: 78271.5169639999
- Scale: 2.95828763795777E8
-
Level ID: 2
[ Start Tile, End Tile ]
- Resolution: 39135.7584820001
- Scale: 1.47914381897889E8
-
Level ID: 3
[ Start Tile, End Tile ]
- Resolution: 19567.8792409999
- Scale: 7.3957190948944E7
-
Level ID: 4
[ Start Tile, End Tile ]
- Resolution: 9783.93962049996
- Scale: 3.6978595474472E7
-
Level ID: 5
[ Start Tile, End Tile ]
- Resolution: 4891.96981024998
- Scale: 1.8489297737236E7
- Format: PNG
- Compression Quality: 0.0
- Origin: X: -2.0037508342787E7
Y: 2.0037508342787E7
- Spatial Reference: 102100
(3857)
Storage Info:
- Storage Format: esriMapCacheStorageModeCompactV2
- Packet Size: 128
Initial Extent:
XMin: -9764009.52247319
YMin: -749799.7180622293
XMax: -6043281.512526158
YMax: 1869756.9507056247
Spatial Reference: 102100
(3857)
Full Extent:
XMin: -9098767.66
YMin: -471243.5331999995
XMax: -7441397.9823
YMax: 1504865.250500001
Spatial Reference: 102100
(3857)
Units: esriMeters
Supported Image Format Types: PNG32,PNG24,PNG,JPG,DIB,TIFF,EMF,PS,PDF,GIF,SVG,SVGZ,BMP
Document Info:
Title: Población indígena en resguardo de 0 a 14 años, 2018
Author:
Comments: El servicio geográfico representa la población Población indígena en resguardo de 0 a 14 años, según los resultados del CNPV2018
Subject: Población indígena en resguardo de 0 a 14 años, según los resultados del CNPV2018
Category:
Keywords: demografia, poblacion
AntialiasingMode: Fast
TextAntialiasingMode: Force
Supports Dynamic Layers: true
Resampling: false
MaxRecordCount: 2000
MaxImageHeight: 4096
MaxImageWidth: 4096
Supported Query Formats: JSON, geoJSON, PBF
Supports Query Data Elements: true
Min Scale: 1.8489297737236E7
Max Scale: 144447.638572
Min LOD: 5
Max LOD: 12
Supports Datum Transformation: true
Child Resources:
Info
Dynamic Layer
Supported Operations:
Export Map
Identify
QueryLegends
QueryDomains
Find
Return Updates