View In:
ArcGIS JavaScript
ArcGIS Online Map Viewer
ArcGIS Earth
ArcGIS Pro
Service Description: La EAM busca obtener información básica del sector industrial para conocer su estructura, características y evolución.
Establecimiento Industrial: Combinación de actividades y recursos que de manera independiente realiza una empresa o parte de una empresa
Map Name: Serv_ID_DeptosINDEstablecimientosIndustriaAgrupacionSegunDpto_2010
Legend
All Layers and Tables
Dynamic Legend
Dynamic All Layers
Layers:
Description: La EAM busca obtener información básica del sector industrial para conocer su estructura, características y evolución.
Establecimiento Industrial: Combinación de actividades y recursos que de manera independiente realiza una empresa o parte de una empresa
Service Item Id: d092d3135d57408eb0dabb95e0038d86
Copyright Text: Departamento Administrativo Nacional de Estadística (DANE)
Spatial Reference:
102100
(3857)
LatestVCSWkid(0)
Single Fused Map Cache: true
Tile Info:
- Height: 256
- Width: 256
- DPI: 96
-
Levels of Detail: 24
-
Level ID: 1
[ Start Tile, End Tile ]
- Resolution: 78271.5169639999
- Scale: 2.95828763795777E8
-
Level ID: 2
[ Start Tile, End Tile ]
- Resolution: 39135.7584820001
- Scale: 1.47914381897889E8
-
Level ID: 3
[ Start Tile, End Tile ]
- Resolution: 19567.8792409999
- Scale: 7.3957190948944E7
-
Level ID: 4
[ Start Tile, End Tile ]
- Resolution: 9783.93962049996
- Scale: 3.6978595474472E7
-
Level ID: 5
[ Start Tile, End Tile ]
- Resolution: 4891.96981024998
- Scale: 1.8489297737236E7
- Format: PNG
- Compression Quality: 0.0
- Origin: X: -2.0037508342787E7
Y: 2.0037508342787E7
- Spatial Reference: 102100
(3857)
LatestVCSWkid(0)
Storage Info:
- Storage Format: esriMapCacheStorageModeCompactV2
- Packet Size: 128
Initial Extent:
XMin: -9763890.833049169
YMin: -546123.330619486
XMax: -6988406.115413066
YMax: 1647276.8895142884
Spatial Reference: 102100
(3857)
LatestVCSWkid(0)
Full Extent:
XMin: -9098784.873187682
YMin: -471076.1653492657
XMax: -7441412.517713086
YMax: 1504872.347582269
Spatial Reference: 102100
(3857)
LatestVCSWkid(0)
Units: esriMeters
Supported Image Format Types: PNG32,PNG24,PNG,JPG,DIB,TIFF,EMF,PS,PDF,GIF,SVG,SVGZ,BMP
Document Info:
Title: Establecimientos manufactureros por agrupación, según departamento 2010
Author:
Comments: La EAM busca obtener información básica del sector industrial para conocer su estructura, características y evolución.
Establecimiento Industrial: Combinación de actividades y recursos que de manera independiente realiza una empresa o parte de una empresa
Subject: Establecimientos manufactureros por agrupación, según departamento 2010
Category:
Keywords: precios, costos
AntialiasingMode: Fast
TextAntialiasingMode: Force
Supports Dynamic Layers: true
Resampling: false
MaxRecordCount: 2000
MaxImageHeight: 4096
MaxImageWidth: 4096
Supported Query Formats: JSON, geoJSON, PBF
Supports Query Data Elements: true
Min Scale: 1.8489297737236E7
Max Scale: 288895.277144
Min LOD: 5
Max LOD: 11
Supports Datum Transformation: true
Child Resources:
Info
Dynamic Layer
Supported Operations:
Export Map
Identify
QueryLegends
QueryDomains
Find
Return Updates