View In:
ArcGIS JavaScript
ArcGIS Online Map Viewer
ArcGIS Earth
ArcGIS Pro
Service Description: Corresponde al servicio que representa nivel de información Manzana del Marco Geoestadístico Nacional (MGN).
Map Name: Serv_CapaManzana_2020
Legend
All Layers and Tables
Dynamic Legend
Dynamic All Layers
Layers:
Description: Corresponde al servicio que representa nivel de información Manzana del Marco Geoestadístico Nacional (MGN).
Service Item Id: 5e871c85d37f48aba4612614aad80b2b
Copyright Text: Departamento Administrativo Nacional de Estadística (DANE)
Spatial Reference:
102100
(3857)
Single Fused Map Cache: true
Tile Info:
- Height: 256
- Width: 256
- DPI: 96
-
Levels of Detail: 24
-
Level ID: 1
[ Start Tile, End Tile ]
- Resolution: 78271.5169639999
- Scale: 2.95828763795777E8
-
Level ID: 2
[ Start Tile, End Tile ]
- Resolution: 39135.7584820001
- Scale: 1.47914381897889E8
-
Level ID: 3
[ Start Tile, End Tile ]
- Resolution: 19567.8792409999
- Scale: 7.3957190948944E7
-
Level ID: 4
[ Start Tile, End Tile ]
- Resolution: 9783.93962049996
- Scale: 3.6978595474472E7
-
Level ID: 5
[ Start Tile, End Tile ]
- Resolution: 4891.96981024998
- Scale: 1.8489297737236E7
- Format: MIXED
- Compression Quality: 75.0
- Origin: X: -2.0037508342787E7
Y: 2.0037508342787E7
- Spatial Reference: 102100
(3857)
Storage Info:
- Storage Format: esriMapCacheStorageModeCompactV2
- Packet Size: 128
Initial Extent:
XMin: -9276767.34891689
YMin: -361380.61396380863
XMax: -7275866.082883107
YMax: 1394099.8618638103
Spatial Reference: 102100
Full Extent:
XMin: -9098444.0696
YMin: -470872.80480000004
XMax: -7454185.419199999
YMax: 1503962.7811000012
Spatial Reference: 102100
Units: esriMeters
Supported Image Format Types: PNG32,PNG24,PNG,JPG,DIB,TIFF,EMF,PS,PDF,GIF,SVG,SVGZ,BMP
Document Info:
Title: Nivel de información Manzana del Marco Geoestadístico Nacional (MGN), versión 2020.
Author:
Comments: Corresponde al servicio que representa nivel de información Manzana del Marco Geoestadístico Nacional (MGN).
Subject: Nivel de información Manzana del Marco Geoestadístico Nacional (MGN), versión 2020.
Category:
Keywords: marcos, geoestadisticos
AntialiasingMode: Fast
TextAntialiasingMode: Force
Supports Dynamic Layers: true
Resampling: false
MaxRecordCount: 2000
MaxImageHeight: 4096
MaxImageWidth: 4096
Supported Query Formats: JSON, geoJSON, PBF
Supports Query Data Elements: true
Min Scale: 1.8489297737236E7
Max Scale: 288895.277144
Min LOD: 5
Max LOD: 11
Supports Datum Transformation: true
Child Resources:
Info
Dynamic Layer
Supported Operations:
Export Map
Identify
QueryLegends
QueryDomains
Find
Return Updates